BEGIN:VCALENDAR
VERSION:2.0
PRODID:-//Springfield Community Land Trust - ECPv6.15.20//NONSGML v1.0//EN
CALSCALE:GREGORIAN
METHOD:PUBLISH
X-WR-CALNAME:Springfield Community Land Trust
X-ORIGINAL-URL:https://springfieldclt.org
X-WR-CALDESC:Events for Springfield Community Land Trust
REFRESH-INTERVAL;VALUE=DURATION:PT1H
X-Robots-Tag:noindex
X-PUBLISHED-TTL:PT1H
BEGIN:VTIMEZONE
TZID:America/Chicago
BEGIN:DAYLIGHT
TZOFFSETFROM:-0600
TZOFFSETTO:-0500
TZNAME:CDT
DTSTART:20230312T080000
END:DAYLIGHT
BEGIN:STANDARD
TZOFFSETFROM:-0500
TZOFFSETTO:-0600
TZNAME:CST
DTSTART:20231105T070000
END:STANDARD
BEGIN:DAYLIGHT
TZOFFSETFROM:-0600
TZOFFSETTO:-0500
TZNAME:CDT
DTSTART:20240310T080000
END:DAYLIGHT
BEGIN:STANDARD
TZOFFSETFROM:-0500
TZOFFSETTO:-0600
TZNAME:CST
DTSTART:20241103T070000
END:STANDARD
BEGIN:DAYLIGHT
TZOFFSETFROM:-0600
TZOFFSETTO:-0500
TZNAME:CDT
DTSTART:20250309T080000
END:DAYLIGHT
BEGIN:STANDARD
TZOFFSETFROM:-0500
TZOFFSETTO:-0600
TZNAME:CST
DTSTART:20251102T070000
END:STANDARD
END:VTIMEZONE
BEGIN:VEVENT
DTSTART;TZID=America/Chicago:20241105T113000
DTEND;TZID=America/Chicago:20241105T123000
DTSTAMP:20260423T191720
CREATED:20241022T184711Z
LAST-MODIFIED:20241022T184900Z
UID:1415-1730806200-1730809800@springfieldclt.org
SUMMARY:Homeownership through SCLT 101: November 5\, 2024
DESCRIPTION:Folks interested in learning more about the Springfield Community Land Trust are invited to attend our Homeownership Through SCLT 101 sessions.  Our next sessions are scheduled for Monday\, October 28th\, 6:30-7:30 and on Tuesday\, November 5th\, 11:30-12:30 at the O’Reilly Center for Hope\, 1518 E. Dale Street.
URL:https://springfieldclt.org/event/homeownership-through-sclt-101-november-5-2024/
LOCATION:O’Reilly Center for Hope\, 1518 E. Dale Street\, Springfield\, MO\, 65803\, United States
ATTACH;FMTTYPE=image/png:https://springfieldclt.org/wp-content/uploads/2024/02/Family-with-arms-around-each-other-smiling-in-from-of-their-home.png
ORGANIZER;CN="LeeAnn Camey":MAILTO:lcamey@cpozarks.org
END:VEVENT
BEGIN:VEVENT
DTSTART;TZID=America/Chicago:20241028T183000
DTEND;TZID=America/Chicago:20241028T193000
DTSTAMP:20260423T191720
CREATED:20241017T220720Z
LAST-MODIFIED:20241022T193801Z
UID:1405-1730140200-1730143800@springfieldclt.org
SUMMARY:Homeownership through SCLT 101: October 28\, 2024
DESCRIPTION:Folks interested in learning more about the Springfield Community Land Trust are invited to attend our Homeownership Through SCLT 101 sessions.  Our next sessions are scheduled for Monday\, October 28th\, 6:30-7:30 and on Tuesday\, November 5th\, 11:30-12:30 at the O’Reilly Center for Hope\, 1518 E. Dale Street.
URL:https://springfieldclt.org/event/homeownership-through-sclt-101/
LOCATION:O’Reilly Center for Hope\, 1518 E. Dale Street\, Springfield\, MO\, 65803\, United States
ATTACH;FMTTYPE=image/png:https://springfieldclt.org/wp-content/uploads/2024/02/Family-with-arms-around-each-other-smiling-in-from-of-their-home.png
ORGANIZER;CN="LeeAnn Camey":MAILTO:lcamey@cpozarks.org
END:VEVENT
END:VCALENDAR