BEGIN:VCALENDAR
VERSION:2.0
PRODID:-//Springfield Community Land Trust - ECPv6.15.20//NONSGML v1.0//EN
CALSCALE:GREGORIAN
METHOD:PUBLISH
X-ORIGINAL-URL:https://springfieldclt.org
X-WR-CALDESC:Events for Springfield Community Land Trust
REFRESH-INTERVAL;VALUE=DURATION:PT1H
X-Robots-Tag:noindex
X-PUBLISHED-TTL:PT1H
BEGIN:VTIMEZONE
TZID:America/Chicago
BEGIN:DAYLIGHT
TZOFFSETFROM:-0600
TZOFFSETTO:-0500
TZNAME:CDT
DTSTART:20240310T080000
END:DAYLIGHT
BEGIN:STANDARD
TZOFFSETFROM:-0500
TZOFFSETTO:-0600
TZNAME:CST
DTSTART:20241103T070000
END:STANDARD
BEGIN:DAYLIGHT
TZOFFSETFROM:-0600
TZOFFSETTO:-0500
TZNAME:CDT
DTSTART:20250309T080000
END:DAYLIGHT
BEGIN:STANDARD
TZOFFSETFROM:-0500
TZOFFSETTO:-0600
TZNAME:CST
DTSTART:20251102T070000
END:STANDARD
BEGIN:DAYLIGHT
TZOFFSETFROM:-0600
TZOFFSETTO:-0500
TZNAME:CDT
DTSTART:20260308T080000
END:DAYLIGHT
BEGIN:STANDARD
TZOFFSETFROM:-0500
TZOFFSETTO:-0600
TZNAME:CST
DTSTART:20261101T070000
END:STANDARD
END:VTIMEZONE
BEGIN:VEVENT
DTSTART;TZID=America/Chicago:20251016T180000
DTEND;TZID=America/Chicago:20251016T210000
DTSTAMP:20260423T053024
CREATED:20250902T195227Z
LAST-MODIFIED:20250902T195419Z
UID:1500-1760637600-1760648400@springfieldclt.org
SUMMARY:Pruitt-Igoe Myth Documentary Screening & Conversation
DESCRIPTION:It began as a housing marvel. Two decades later\, it ended in rubble. But what happened to those caught in between?\n\n\n\n\n\n\n\n\nThe Pruitt-Igoe Myth tells the story of the transformation of the American city in the decades after World War II\, through the lens of the infamous Pruitt-Igoe housing development and the St. Louis residents who called it home. From the director\, Chad Freidrichs\, “History is a contested space. Arguments become flattened\, rather than expanded\, available evidence discarded\, rather than sought. This is why Pruitt-Igoe matters – why we made this documentary. So much of our collective understanding of cities and government and inequality are tied up in these 33 high-rise buildings\, informed by the demolition image. Too much of the context has been overlooked\, or willfully ignored\, in discussions of public housing\, public welfare\, and the state of the American city.” \nJoin us for a special screening of The Pruitt-Igoe Myth followed by a panel and community discussion moderated by David Stoeffler from the Springfield Daily Citizen on October 16th\, 2025 at 6:00pm at Alamo Drafthouse Cinema. Visit our main event page. 
URL:https://springfieldclt.org/event/pruitt-igoe-myth-documentary-screening-conversation/
LOCATION:Alamo Drafthouse Cinema\, 4005 South Avenue\, Springfield\, Missouri\, 65807
END:VEVENT
END:VCALENDAR